BEGIN:VCALENDAR
VERSION:2.0
PRODID:-//hacksw/handcal//NONSGML v1.0//EN
CALSCALE:GREGORIAN
BEGIN:VEVENT
SUMMARY:Webinar: Startup e soluzioni innovative contro Covid-19\, 6 maggio 2020 | RECALL
DESCRIPTION:Dettagli: https://www.confindustriaemilia.it/flex/cm/pages/ServeBLOB.php/L/IT/IDPagina/92283
LOCATION:
DTSTART:20200506T150000Z
DTEND:20200506T160000Z
DTSTAMP:20260420T015626Z
UID:69e587ca59236
END:VEVENT
END:VCALENDAR