BEGIN:VCALENDAR
VERSION:2.0
PRODID:-//hacksw/handcal//NONSGML v1.0//EN
CALSCALE:GREGORIAN
BEGIN:VEVENT
SUMMARY:Le professioni del futuro: il CRM Analyst
DESCRIPTION:Dettagli: https://www.confindustriaemilia.it/flex/cm/pages/ServeBLOB.php/L/IT/IDPagina/86539
LOCATION:Confindustria Emilia Area Centro\, Sede di Bologna\, via S. Domenico 4
DTSTART:20180313T083000Z
DTEND:20180313T120000Z
DTSTAMP:20260421T143208Z
UID:69e78a683e109
END:VEVENT
END:VCALENDAR