BEGIN:VCALENDAR
VERSION:2.0
PRODID:-//hacksw/handcal//NONSGML v1.0//EN
CALSCALE:GREGORIAN
BEGIN:VEVENT
SUMMARY:"Associati per Associati": incontro "Soluzioni per la regolazione di accessi e presenze ai tempi del Covid-19"
DESCRIPTION:Dettagli: https://www.confindustriaemilia.it/flex/cm/pages/ServeBLOB.php/L/IT/IDPagina/92301
LOCATION:
DTSTART:20200506T090000Z
DTEND:20200506T103000Z
DTSTAMP:20260420T015337Z
UID:69e587211cc1d
END:VEVENT
END:VCALENDAR