BEGIN:VCALENDAR
VERSION:2.0
PRODID:-//hacksw/handcal//NONSGML v1.0//EN
CALSCALE:GREGORIAN
BEGIN:VEVENT
SUMMARY:TenderLab\, In gara con noi: corso di formazione ICE sulle gare internazionali - Ulteriori disponibilità
DESCRIPTION:Dettagli: https://www.confindustriaemilia.it/flex/cm/pages/ServeBLOB.php/L/IT/IDPagina/101771
LOCATION:
DTSTART:20230607T070000Z
DTEND:20230608T150000Z
DTSTAMP:20260421T211025Z
UID:69e7e7c1c633e
END:VEVENT
END:VCALENDAR