BEGIN:VCALENDAR
VERSION:2.0
PRODID:-//hacksw/handcal//NONSGML v1.0//EN
CALSCALE:GREGORIAN
BEGIN:VEVENT
SUMMARY:Made in Italy - Radici che Crescono: Storie di Famiglia\, Imprese di Futuro
DESCRIPTION:Dettagli: https://www.confindustriaemilia.it/flex/cm/pages/ServeBLOB.php/L/IT/IDPagina/110146
LOCATION:
DTSTART:20260423T140000Z
DTEND:20260423T170000Z
DTSTAMP:20260421T101938Z
UID:69e74f3a3f09a
END:VEVENT
END:VCALENDAR