BEGIN:VCALENDAR
VERSION:2.0
PRODID:-//hacksw/handcal//NONSGML v1.0//EN
CALSCALE:GREGORIAN
BEGIN:VEVENT
SUMMARY:“La Supply Chain intelligente”\, come ri-organizzare la propria catena di fornitura in un contesto rivoluzionato
DESCRIPTION:Dettagli: https://www.confindustriaemilia.it/flex/cm/pages/ServeBLOB.php/L/IT/IDPagina/93919
LOCATION:
DTSTART:20201112T153000Z
DTEND:20201112T170000Z
DTSTAMP:20260420T190712Z
UID:69e679607abc5
END:VEVENT
END:VCALENDAR