BEGIN:VCALENDAR
VERSION:2.0
PRODID:-//hacksw/handcal//NONSGML v1.0//EN
CALSCALE:GREGORIAN
BEGIN:VEVENT
SUMMARY:Ciclo di webinar: RIPENSARE L'AZIENDA PER RIPARTIRE - Puntata #3
DESCRIPTION:Dettagli: https://www.confindustriaemilia.it/flex/cm/pages/ServeBLOB.php/L/IT/IDPagina/92195
LOCATION:
DTSTART:20200505T140000Z
DTEND:20200505T150000Z
DTSTAMP:20260420T015109Z
UID:69e5868d552bc
END:VEVENT
END:VCALENDAR