BEGIN:VCALENDAR
VERSION:2.0
PRODID:-//hacksw/handcal//NONSGML v1.0//EN
CALSCALE:GREGORIAN
BEGIN:VEVENT
SUMMARY:Attività di formazione COVID 19
DESCRIPTION:Dettagli: https://www.confindustriaemilia.it/flex/cm/pages/ServeBLOB.php/L/IT/IDPagina/94062
LOCATION:On line
DTSTART:20201125T100000Z
DTEND:20201125T110000Z
DTSTAMP:20260423T122820Z
UID:69ea10649e547
END:VEVENT
END:VCALENDAR