BEGIN:VCALENDAR
VERSION:2.0
PRODID:-//hacksw/handcal//NONSGML v1.0//EN
CALSCALE:GREGORIAN
BEGIN:VEVENT
SUMMARY:SAVE THE DATE 11 Novembre h 9.00 - Presentazione progetto Re-start Confindustria Emilia-Almacube
DESCRIPTION:Dettagli: https://www.confindustriaemilia.it/flex/cm/pages/ServeBLOB.php/L/IT/IDPagina/93852
LOCATION:
DTSTART:20201111T080000Z
DTEND:20201111T093000Z
DTSTAMP:20260420T065033Z
UID:69e5ccb9b29df
END:VEVENT
END:VCALENDAR