BEGIN:VCALENDAR
VERSION:2.0
PRODID:-//hacksw/handcal//NONSGML v1.0//EN
CALSCALE:GREGORIAN
BEGIN:VEVENT
SUMMARY:“Le opportunità offerte dagli accordi di libero scambio e le sfide della politica commerciale nell’attuale contesto internazionale” - RINVIATO
DESCRIPTION:Dettagli: https://www.confindustriaemilia.it/flex/cm/pages/ServeBLOB.php/L/IT/IDPagina/87751
LOCATION:presso la sede di Sace\, via Marco Emilio Lepido\, 182/2 - Bologna
DTSTART:20180704T071500Z
DTEND:20180704T103000Z
DTSTAMP:20260424T201029Z
UID:69ebce352b740
END:VEVENT
END:VCALENDAR