BEGIN:VCALENDAR
VERSION:2.0
PRODID:-//hacksw/handcal//NONSGML v1.0//EN
CALSCALE:GREGORIAN
BEGIN:VEVENT
SUMMARY:"Associati per Associati": incontro EMIRATES: "Dubai - Expo 2020 e l’Africa a chilometro zero"
DESCRIPTION:Dettagli: https://www.confindustriaemilia.it/flex/cm/pages/ServeBLOB.php/L/IT/IDPagina/97264
LOCATION:Sala Conferenze Marconi Business LoungeAeroporto G. Marconi - Bologna
DTSTART:20211214T150000Z
DTEND:20211214T160000Z
DTSTAMP:20260420T071703Z
UID:69e5d2ef54fec
END:VEVENT
END:VCALENDAR