BEGIN:VCALENDAR
VERSION:2.0
PRODID:-//hacksw/handcal//NONSGML v1.0//EN
CALSCALE:GREGORIAN
BEGIN:VEVENT
SUMMARY:ANNULLATO - GGI - FUTURE VALLEY - A.I. 2023! La sfida dell'uomo
DESCRIPTION:Dettagli: https://www.confindustriaemilia.it/flex/cm/pages/ServeBLOB.php/L/IT/IDPagina/101581
LOCATION:
DTSTART:20230523T150000Z
DTEND:20230523T180000Z
DTSTAMP:20260422T010158Z
UID:69e81e067039e
END:VEVENT
END:VCALENDAR