BEGIN:VCALENDAR
VERSION:2.0
PRODID:-//hacksw/handcal//NONSGML v1.0//EN
CALSCALE:GREGORIAN
BEGIN:VEVENT
SUMMARY:"Associati per Associati": incontro "Il Teatro Comunale: un'opportunità per le aziende"
DESCRIPTION:Dettagli: https://www.confindustriaemilia.it/flex/cm/pages/ServeBLOB.php/L/IT/IDPagina/97069
LOCATION:Teatro Comunale di Bologna - Ingresso Piazza Verdi
DTSTART:20211129T160000Z
DTEND:20211129T173000Z
DTSTAMP:20260424T170312Z
UID:69eba250f10d3
END:VEVENT
END:VCALENDAR