BEGIN:VCALENDAR
VERSION:2.0
PRODID:-//hacksw/handcal//NONSGML v1.0//EN
CALSCALE:GREGORIAN
BEGIN:VEVENT
SUMMARY:Webinar: Il settore moda in Cina continentale e Honk Kong dopo il Covid (prodotti intermedi)
DESCRIPTION:Dettagli: https://www.confindustriaemilia.it/flex/cm/pages/ServeBLOB.php/L/IT/IDPagina/101900
LOCATION:
DTSTART:20230531T080000Z
DTEND:20230531T093000Z
DTSTAMP:20260421T182023Z
UID:69e7bfe7df05b
END:VEVENT
END:VCALENDAR