BEGIN:VCALENDAR
VERSION:2.0
PRODID:-//hacksw/handcal//NONSGML v1.0//EN
CALSCALE:GREGORIAN
BEGIN:VEVENT
SUMMARY:Sustainability Talks - quinto appuntamento. CSRD: verso l'obbligo di rendicontazione della sostenibilità in UE
DESCRIPTION:Dettagli: https://www.confindustriaemilia.it/flex/cm/pages/ServeBLOB.php/L/IT/IDPagina/101763
LOCATION:
DTSTART:20230613T090000Z
DTEND:20230613T103000Z
DTSTAMP:20260421T211041Z
UID:69e7e7d1dfd5f
END:VEVENT
END:VCALENDAR