BEGIN:VCALENDAR
VERSION:2.0
PRODID:-//hacksw/handcal//NONSGML v1.0//EN
CALSCALE:GREGORIAN
BEGIN:VEVENT
SUMMARY:Missione di Confindustria negli USA: SelectUSA Investment Summit e incontri a Washington DC
DESCRIPTION:Dettagli: https://www.confindustriaemilia.it/flex/cm/pages/ServeBLOB.php/L/IT/IDPagina/104584
LOCATION:
DTSTART:20240622T070000Z
DTEND:20240626T160000Z
DTSTAMP:20260420T222406Z
UID:69e6a78649d4c
END:VEVENT
END:VCALENDAR