BEGIN:VCALENDAR
VERSION:2.0
PRODID:-//hacksw/handcal//NONSGML v1.0//EN
CALSCALE:GREGORIAN
BEGIN:VEVENT
SUMMARY:Conferenza Internazionale per la ricostruzione dell'Ucraina: Berlino\, 11-12 giugno
DESCRIPTION:Dettagli: https://www.confindustriaemilia.it/flex/cm/pages/ServeBLOB.php/L/IT/IDPagina/104534
LOCATION:
DTSTART:20240611T070000Z
DTEND:20240612T160000Z
DTSTAMP:20260420T235619Z
UID:69e6bd238011f
END:VEVENT
END:VCALENDAR