BEGIN:VCALENDAR
VERSION:2.0
PRODID:-//hacksw/handcal//NONSGML v1.0//EN
CALSCALE:GREGORIAN
BEGIN:VEVENT
SUMMARY:"Associati per Associati": incontro "Il Regolamento Macchine Verso la transizione al nuovo regime regolatorio"
DESCRIPTION:Dettagli: https://www.confindustriaemilia.it/flex/cm/pages/ServeBLOB.php/L/IT/IDPagina/101996
LOCATION:Webinar -  - 
DTSTART:20230628T130000Z
DTEND:20230628T143000Z
DTSTAMP:20260424T033030Z
UID:69eae3d695bf0
END:VEVENT
END:VCALENDAR