BEGIN:VCALENDAR
VERSION:2.0
PRODID:-//hacksw/handcal//NONSGML v1.0//EN
CALSCALE:GREGORIAN
BEGIN:VEVENT
SUMMARY:Workshop FARETE: Come inserire e stabilire il proprio marchio alimentare nei canali retail e foodservice in Francia?
DESCRIPTION:Dettagli: https://www.confindustriaemilia.it/flex/cm/pages/ServeBLOB.php/L/IT/IDPagina/105469
LOCATION:Farete - BolognaFiere - ingresso Nord - Bologna
DTSTART:20240905T093000Z
DTEND:20240905T103000Z
DTSTAMP:20260420T204701Z
UID:69e690c539fcb
END:VEVENT
END:VCALENDAR