BEGIN:VCALENDAR
VERSION:2.0
PRODID:-//hacksw/handcal//NONSGML v1.0//EN
CALSCALE:GREGORIAN
BEGIN:VEVENT
SUMMARY:"Associati per Associati": incontro "Cyber Security Innovativa. Finalmente l'approccio Zero Trust semplice ed automatizzato"
DESCRIPTION:Dettagli: https://www.confindustriaemilia.it/flex/cm/pages/ServeBLOB.php/L/IT/IDPagina/100847
LOCATION:Webinar -  - 
DTSTART:20230228T150000Z
DTEND:20230228T163000Z
DTSTAMP:20260420T093054Z
UID:69e5f24e157dd
END:VEVENT
END:VCALENDAR