BEGIN:VCALENDAR
VERSION:2.0
PRODID:-//hacksw/handcal//NONSGML v1.0//EN
CALSCALE:GREGORIAN
BEGIN:VEVENT
SUMMARY:Piccola Industria - Economia circolare e PMI: Il valore dei Big Data
DESCRIPTION:Dettagli: https://www.confindustriaemilia.it/flex/cm/pages/ServeBLOB.php/L/IT/IDPagina/95608
LOCATION:Webinar Teams - piattaforma - Microsoft Teams
DTSTART:20210609T090000Z
DTEND:20210609T101500Z
DTSTAMP:20260420T002704Z
UID:69e572d871177
END:VEVENT
END:VCALENDAR