BEGIN:VCALENDAR
VERSION:2.0
PRODID:-//hacksw/handcal//NONSGML v1.0//EN
CALSCALE:GREGORIAN
BEGIN:VEVENT
SUMMARY:"Associati per Associati": incontro "Sicurezza e tecnologia: soluzioni tecnologiche per la sicurezza e la logistica delle imprese"
DESCRIPTION:Dettagli: https://www.confindustriaemilia.it/flex/cm/pages/ServeBLOB.php/L/IT/IDPagina/101588
LOCATION:Webinar -  - 
DTSTART:20230531T073000Z
DTEND:20230531T103000Z
DTSTAMP:20260421T182013Z
UID:69e7bfdd85abf
END:VEVENT
END:VCALENDAR