BEGIN:VCALENDAR
VERSION:2.0
PRODID:-//hacksw/handcal//NONSGML v1.0//EN
CALSCALE:GREGORIAN
BEGIN:VEVENT
SUMMARY:"Associati per Associati": incontro "CON IL PIEDE GIUSTO! Le regole da rispettare e gli strumenti a disposizione delle aziende per affrontare al meglio la ripartenza"
DESCRIPTION:Dettagli: https://www.confindustriaemilia.it/flex/cm/pages/ServeBLOB.php/L/IT/IDPagina/92506
LOCATION:Webinar -  - 
DTSTART:20200521T080000Z
DTEND:20200521T093000Z
DTSTAMP:20260420T002833Z
UID:69e5733141cf0
END:VEVENT
END:VCALENDAR