BEGIN:VCALENDAR
VERSION:2.0
PRODID:-//hacksw/handcal//NONSGML v1.0//EN
CALSCALE:GREGORIAN
BEGIN:VEVENT
SUMMARY:Le conseguenze della BREXIT sui contratti internazionali: termini di resa\, Incoterms\, trasferimento rischi e proprietà
DESCRIPTION:Dettagli: https://www.confindustriaemilia.it/flex/cm/pages/ServeBLOB.php/L/IT/IDPagina/94688
LOCATION:Webinar -  - 
DTSTART:20210222T133000Z
DTEND:20210222T160000Z
DTSTAMP:20260419T211732Z
UID:69e5466c1a49c
END:VEVENT
END:VCALENDAR