BEGIN:VCALENDAR
VERSION:2.0
PRODID:-//hacksw/handcal//NONSGML v1.0//EN
CALSCALE:GREGORIAN
BEGIN:VEVENT
SUMMARY:Associati per Associati - Webinar: "Processi logistici ottimizzati\, solidi e semplici da gestire"
DESCRIPTION:Dettagli: https://www.confindustriaemilia.it/flex/cm/pages/ServeBLOB.php/L/IT/IDPagina/105263
LOCATION:Webinar Teams - piattaforma - Microsoft Teams
DTSTART:20240710T090000Z
DTEND:20240710T100000Z
DTSTAMP:20260420T222457Z
UID:69e6a7b950e15
END:VEVENT
END:VCALENDAR