BEGIN:VCALENDAR
VERSION:2.0
PRODID:-//hacksw/handcal//NONSGML v1.0//EN
CALSCALE:GREGORIAN
BEGIN:VEVENT
SUMMARY:"Associati per Associati": incontro "Come creare e vendere prodotti secondo la normativa IEC 62443. Cyber Security per le macchine industriali"
DESCRIPTION:Dettagli: https://www.confindustriaemilia.it/flex/cm/pages/ServeBLOB.php/L/IT/IDPagina/97094
LOCATION:Webinar Teams - piattaforma - Microsoft Teams
DTSTART:20211201T140000Z
DTEND:20211201T153000Z
DTSTAMP:20260424T170313Z
UID:69eba2517f417
END:VEVENT
END:VCALENDAR