BEGIN:VCALENDAR
VERSION:2.0
PRODID:-//hacksw/handcal//NONSGML v1.0//EN
CALSCALE:GREGORIAN
BEGIN:VEVENT
SUMMARY:REMINDER - Le nuove regole per la “circolazione” delle perdite fiscali e le novità fiscali per le operazioni straordinarie
DESCRIPTION:Dettagli: https://www.confindustriaemilia.it/flex/cm/pages/ServeBLOB.php/L/IT/IDPagina/105100
LOCATION:Webinar Zoom - piattaforma - Zoom
DTSTART:20240624T123000Z
DTEND:20240624T150000Z
DTSTAMP:20260420T224419Z
UID:69e6ac4343fb6
END:VEVENT
END:VCALENDAR