BEGIN:VCALENDAR
VERSION:2.0
PRODID:-//hacksw/handcal//NONSGML v1.0//EN
CALSCALE:GREGORIAN
BEGIN:VEVENT
SUMMARY:Il Procacciamento d'affari\, l'agenzia e le altre forme di intermediazione commerciale in Italia e all'Estero
DESCRIPTION:Dettagli: https://www.confindustriaemilia.it/flex/cm/pages/ServeBLOB.php/L/IT/IDPagina/94192
LOCATION:Confindustria Emilia Area Centro - Streaming -  - 
DTSTART:20201210T083000Z
DTEND:20201210T110000Z
DTSTAMP:20260420T014310Z
UID:69e584aeadc48
END:VEVENT
END:VCALENDAR