BEGIN:VCALENDAR
VERSION:2.0
PRODID:-//hacksw/handcal//NONSGML v1.0//EN
CALSCALE:GREGORIAN
BEGIN:VEVENT
SUMMARY:"Associati per Associati": incontro "Viaggiare al tempo del Covid ...si può!"
DESCRIPTION:Dettagli: https://www.confindustriaemilia.it/flex/cm/pages/ServeBLOB.php/L/IT/IDPagina/94252
LOCATION:Webinar Teams - piattaforma - Microsoft Teams
DTSTART:20201214T133000Z
DTEND:20201214T143000Z
DTSTAMP:20260419T211633Z
UID:69e54631dc55f
END:VEVENT
END:VCALENDAR