BEGIN:VCALENDAR
VERSION:2.0
PRODID:-//hacksw/handcal//NONSGML v1.0//EN
CALSCALE:GREGORIAN
BEGIN:VEVENT
SUMMARY:Associati per Associati - Incontro "Innovation Day: scopri il futuro con Würth Italia: Innovazione e Tecnologia al Servizio delle Imprese"
DESCRIPTION:Dettagli: https://www.confindustriaemilia.it/flex/cm/pages/ServeBLOB.php/L/IT/IDPagina/106150
LOCATION:Confindustria Emilia Area Centro - Sede di Modena - via Bellinzona 27/a - Modena
DTSTART:20241114T150000Z
DTEND:20241114T170000Z
DTSTAMP:20260420T204727Z
UID:69e690dfd443c
END:VEVENT
END:VCALENDAR