BEGIN:VCALENDAR
VERSION:2.0
PRODID:-//hacksw/handcal//NONSGML v1.0//EN
CALSCALE:GREGORIAN
BEGIN:VEVENT
SUMMARY:Associati per Associati - Webinar: "Perfezionare il Packaging: approcci innovativi al controllo qualità nei settori farmaceutico\, cosmetico ed alimentare"
DESCRIPTION:Dettagli: https://www.confindustriaemilia.it/flex/cm/pages/ServeBLOB.php/L/IT/IDPagina/104965
LOCATION:Webinar -  - 
DTSTART:20240619T080000Z
DTEND:20240619T100000Z
DTSTAMP:20260420T222457Z
UID:69e6a7b950e48
END:VEVENT
END:VCALENDAR