BEGIN:VCALENDAR
VERSION:2.0
PRODID:-//hacksw/handcal//NONSGML v1.0//EN
CALSCALE:GREGORIAN
BEGIN:VEVENT
SUMMARY:Associati per Associati - Webinar "L’importanza della fatturazione elettronica nell'Internazionalizzazione del business: Compliance globale e ottimizzazione dei processi"
DESCRIPTION:Dettagli: https://www.confindustriaemilia.it/flex/cm/pages/ServeBLOB.php/L/IT/IDPagina/106156
LOCATION:Webinar Teams - piattaforma - Microsoft Teams
DTSTART:20241119T090000Z
DTEND:20241119T100000Z
DTSTAMP:20260420T204825Z
UID:69e6911904253
END:VEVENT
END:VCALENDAR