BEGIN:VCALENDAR
VERSION:2.0
PRODID:-//hacksw/handcal//NONSGML v1.0//EN
CALSCALE:GREGORIAN
BEGIN:VEVENT
SUMMARY:Made in Italy - Evento "Intelligenza Artificiale: azzardo o opportunità? Dagli albori all’attuale incredibile sviluppo. Applicazioni sul breve periodo. Rischi e regolamentazione. Visione sul lungo termine”
DESCRIPTION:Dettagli: https://www.confindustriaemilia.it/flex/cm/pages/ServeBLOB.php/L/IT/IDPagina/104485
LOCATION:CATTA 27 SRL - Via Roma N. 32/1 - Zola Predosa (BO)
DTSTART:20240419T080000Z
DTEND:20240419T110000Z
DTSTAMP:20260420T214529Z
UID:69e69e79c9fe2
END:VEVENT
END:VCALENDAR