BEGIN:VCALENDAR
VERSION:2.0
PRODID:-//hacksw/handcal//NONSGML v1.0//EN
CALSCALE:GREGORIAN
BEGIN:VEVENT
SUMMARY:Guida alla lettura della polizza Informatica (Cyber risk)
DESCRIPTION:Dettagli: https://www.confindustriaemilia.it/flex/cm/pages/ServeBLOB.php/L/IT/IDPagina/93728
LOCATION:Confindustria Emilia Area Centro - Streaming -  - 
DTSTART:20201124T133000Z
DTEND:20201124T160000Z
DTSTAMP:20260422T083925Z
UID:69e8893d5b11e
END:VEVENT
END:VCALENDAR