BEGIN:VCALENDAR
VERSION:2.0
PRODID:-//hacksw/handcal//NONSGML v1.0//EN
CALSCALE:GREGORIAN
BEGIN:VEVENT
SUMMARY:"Associati per Associati": incontro “La Tutela dell’Imprenditore e dell’Impresa Attraverso il Trust”
DESCRIPTION:Dettagli: https://www.confindustriaemilia.it/flex/cm/pages/ServeBLOB.php/L/IT/IDPagina/96932
LOCATION:Webinar Teams - piattaforma - Microsoft Teams
DTSTART:20211118T160000Z
DTEND:20211118T170000Z
DTSTAMP:20260422T083941Z
UID:69e8894d13387
END:VEVENT
END:VCALENDAR