BEGIN:VCALENDAR
VERSION:2.0
PRODID:-//hacksw/handcal//NONSGML v1.0//EN
CALSCALE:GREGORIAN
BEGIN:VEVENT
SUMMARY:60° PREMIO ESTENSE: presentazione della quartina finalista e del vincitore del Riconoscimento Gianni Granzotto
DESCRIPTION:Dettagli: https://www.confindustriaemilia.it/flex/cm/pages/ServeBLOB.php/L/IT/IDPagina/104813
LOCATION:Museo di Casa Romei - Via Savonarola\, 30 44121 - Ferrara
DTSTART:20240529T143000Z
DTEND:20240529T163000Z
DTSTAMP:20260420T231046Z
UID:69e6b2768131a
END:VEVENT
END:VCALENDAR