BEGIN:VCALENDAR
VERSION:2.0
PRODID:-//hacksw/handcal//NONSGML v1.0//EN
CALSCALE:GREGORIAN
BEGIN:VEVENT
SUMMARY:PMI DAY 2020
DESCRIPTION:Dettagli: https://www.confindustriaemilia.it/flex/cm/pages/ServeBLOB.php/L/IT/IDPagina/94083
LOCATION:Webinar -  - 
DTSTART:20201120T093000Z
DTEND:20201120T110000Z
DTSTAMP:20260422T090346Z
UID:69e88ef2f0c84
END:VEVENT
END:VCALENDAR