BEGIN:VCALENDAR
VERSION:2.0
PRODID:-//hacksw/handcal//NONSGML v1.0//EN
CALSCALE:GREGORIAN
BEGIN:VEVENT
SUMMARY:Associati per Associati - Webinar "LE NUOVE OPPORTUNITÀ OFFERTE DALLA TRANSIZIONE 5.0. Progettare\, realizzare e finanziare la Transizione 5.0"
DESCRIPTION:Dettagli: https://www.confindustriaemilia.it/flex/cm/pages/ServeBLOB.php/L/IT/IDPagina/105397
LOCATION:Webinar Teams - piattaforma - Microsoft Teams
DTSTART:20240912T143000Z
DTEND:20240912T160000Z
DTSTAMP:20260420T201952Z
UID:69e68a68b4611
END:VEVENT
END:VCALENDAR