BEGIN:VCALENDAR
VERSION:2.0
PRODID:-//hacksw/handcal//NONSGML v1.0//EN
CALSCALE:GREGORIAN
BEGIN:VEVENT
SUMMARY:"Associati per Associati": incontro "MDR 2017/745: Analisi e gestione dei rischi per i Dispositivi Medici"
DESCRIPTION:Dettagli: https://www.confindustriaemilia.it/flex/cm/pages/ServeBLOB.php/L/IT/IDPagina/101512
LOCATION:Confindustria Emilia Area Centro - Sede di Modena - via Bellinzona 27/a - Modena
DTSTART:20230515T070000Z
DTEND:20230515T103000Z
DTSTAMP:20260421T225512Z
UID:69e80050dd364
END:VEVENT
END:VCALENDAR