BEGIN:VCALENDAR
VERSION:2.0
PRODID:-//hacksw/handcal//NONSGML v1.0//EN
CALSCALE:GREGORIAN
BEGIN:VEVENT
SUMMARY:PICCOLA INDUSTRIA | La sostenibilità come strumento di marketing per le PMI
DESCRIPTION:Dettagli: https://www.confindustriaemilia.it/flex/cm/pages/ServeBLOB.php/L/IT/IDPagina/105101
LOCATION:Schneider Electric Spa - Via del Lavoro 47 - Casalecchio di Reno (Bo)
DTSTART:20240625T150000Z
DTEND:20240625T163000Z
DTSTAMP:20260420T231046Z
UID:69e6b2765b8c9
END:VEVENT
END:VCALENDAR