BEGIN:VCALENDAR
VERSION:2.0
PRODID:-//hacksw/handcal//NONSGML v1.0//EN
CALSCALE:GREGORIAN
BEGIN:VEVENT
SUMMARY:Associati per Associati – Webinar "BPM 6.0: L'EVOLUZIONE DEL PROCESS E DOCUMENT MANAGEMENT"
DESCRIPTION:Dettagli: https://www.confindustriaemilia.it/flex/cm/pages/ServeBLOB.php/L/IT/IDPagina/104891
LOCATION:Webinar -  - 
DTSTART:20240625T090000Z
DTEND:20240625T103000Z
DTSTAMP:20260420T235056Z
UID:69e6bbe0219e3
END:VEVENT
END:VCALENDAR