BEGIN:VCALENDAR
VERSION:2.0
PRODID:-//hacksw/handcal//NONSGML v1.0//EN
CALSCALE:GREGORIAN
BEGIN:VEVENT
SUMMARY:"Associati per Associati": incontro "Comunità Energetiche e nuovi modelli di condivisione dell'energia: un'opportunità per la transizione energetica delle imprese"
DESCRIPTION:Dettagli: https://www.confindustriaemilia.it/flex/cm/pages/ServeBLOB.php/L/IT/IDPagina/97095
LOCATION:Webinar -  - 
DTSTART:20211202T140000Z
DTEND:20211202T153000Z
DTSTAMP:20260420T072055Z
UID:69e5d3d7909b4
END:VEVENT
END:VCALENDAR