BEGIN:VCALENDAR
VERSION:2.0
PRODID:-//hacksw/handcal//NONSGML v1.0//EN
CALSCALE:GREGORIAN
BEGIN:VEVENT
SUMMARY:Associati per Associati – Incontro "Verso un Futuro Sostenibile: Umanesimo\, Innovazione e Marketing"
DESCRIPTION:Dettagli: https://www.confindustriaemilia.it/flex/cm/pages/ServeBLOB.php/L/IT/IDPagina/104368
LOCATION:Confindustria Emilia Area Centro - Sede di Bologna - via S. Domenico 4 - Bologna
DTSTART:20240508T153000Z
DTEND:20240508T173000Z
DTSTAMP:20260425T170125Z
UID:69ecf36561650
END:VEVENT
END:VCALENDAR