BEGIN:VCALENDAR
VERSION:2.0
PRODID:-//hacksw/handcal//NONSGML v1.0//EN
CALSCALE:GREGORIAN
BEGIN:VEVENT
SUMMARY:"Associati per Associati": incontro "2021 l’anno delle opportunità: la digital transformation nelle imprese manifatturiere per sostenere resilienza e agilità"
DESCRIPTION:Dettagli: https://www.confindustriaemilia.it/flex/cm/pages/ServeBLOB.php/L/IT/IDPagina/94657
LOCATION:Webinar -  - 
DTSTART:20210225T083000Z
DTEND:20210225T103000Z
DTSTAMP:20260419T224946Z
UID:69e55c0a7e2fa
END:VEVENT
END:VCALENDAR