BEGIN:VCALENDAR
VERSION:2.0
PRODID:-//hacksw/handcal//NONSGML v1.0//EN
CALSCALE:GREGORIAN
BEGIN:VEVENT
SUMMARY:Associati per Associati - Webinar "Transizione 4.0 VS Transizione 5.0. Scopri le differenze concettuali e pratiche tra i due piani e impara a sfruttarne i benefici"
DESCRIPTION:Dettagli: https://www.confindustriaemilia.it/flex/cm/pages/ServeBLOB.php/L/IT/IDPagina/106082
LOCATION:Webinar -  - 
DTSTART:20241108T153000Z
DTEND:20241108T163000Z
DTSTAMP:20260420T205309Z
UID:69e692354c86c
END:VEVENT
END:VCALENDAR