BEGIN:VCALENDAR
VERSION:2.0
PRODID:-//hacksw/handcal//NONSGML v1.0//EN
CALSCALE:GREGORIAN
BEGIN:VEVENT
SUMMARY:REMINDER - Origine delle merci: preferenziale e non preferenziale (Made in) e novità su PEM revised e Mercosur
DESCRIPTION:Dettagli: https://www.confindustriaemilia.it/flex/cm/pages/ServeBLOB.php/L/IT/IDPagina/109714
LOCATION:Webinar Zoom - piattaforma - Zoom
DTSTART:20260126T140000Z
DTEND:20260126T160000Z
DTSTAMP:20260423T162909Z
UID:69ea48d5ebe3e
END:VEVENT
END:VCALENDAR