BEGIN:VCALENDAR
VERSION:2.0
PRODID:-//hacksw/handcal//NONSGML v1.0//EN
CALSCALE:GREGORIAN
BEGIN:VEVENT
SUMMARY:Novità IVA 2021 - 2022 ( e.fattura\, esterometro\, dichiarazione intenti)
DESCRIPTION:Dettagli: https://www.confindustriaemilia.it/flex/cm/pages/ServeBLOB.php/L/IT/IDPagina/97097
LOCATION:Webinar Zoom - piattaforma - Zoom
DTSTART:20211215T083000Z
DTEND:20211215T103000Z
DTSTAMP:20260420T070834Z
UID:69e5d0f26b299
END:VEVENT
END:VCALENDAR