BEGIN:VCALENDAR
VERSION:2.0
PRODID:-//hacksw/handcal//NONSGML v1.0//EN
CALSCALE:GREGORIAN
BEGIN:VEVENT
SUMMARY:Webinar "Opportunità per la filiera agroalimentare italiana in ASEAN"
DESCRIPTION:Dettagli: https://www.confindustriaemilia.it/flex/cm/pages/ServeBLOB.php/L/IT/IDPagina/93653
LOCATION:Webinar -  - 
DTSTART:20201013T080000Z
DTEND:20201013T100000Z
DTSTAMP:20260421T125827Z
UID:69e7747386891
END:VEVENT
END:VCALENDAR