BEGIN:VCALENDAR
VERSION:2.0
PRODID:-//hacksw/handcal//NONSGML v1.0//EN
CALSCALE:GREGORIAN
BEGIN:VEVENT
SUMMARY:"Associati per Associati": incontro "Senza cultura e innovazione non c'è sicurezza"
DESCRIPTION:Dettagli: https://www.confindustriaemilia.it/flex/cm/pages/ServeBLOB.php/L/IT/IDPagina/101844
LOCATION:Confindustria Emilia Area Centro - Sede di Bologna - via S. Domenico 4 - Bologna
DTSTART:20230605T080000Z
DTEND:20230605T100000Z
DTSTAMP:20260421T182024Z
UID:69e7bfe810dd4
END:VEVENT
END:VCALENDAR