BEGIN:VCALENDAR
VERSION:2.0
PRODID:-//hacksw/handcal//NONSGML v1.0//EN
CALSCALE:GREGORIAN
BEGIN:VEVENT
SUMMARY:NDA (Non Disclosure Agreements) - La Redazione delle clausole di riservatezza e degli accordi di riservatezza in ambito Nazionale ed Internazionale - In streaming
DESCRIPTION:Dettagli: https://www.confindustriaemilia.it/flex/cm/pages/ServeBLOB.php/L/IT/IDPagina/93518
LOCATION:Confindustria Emilia Area Centro - Sede di Bologna - via S. Domenico 4 - Bologna
DTSTART:20200929T073000Z
DTEND:20200929T100000Z
DTSTAMP:20260422T111023Z
UID:69e8ac9f9ede2
END:VEVENT
END:VCALENDAR